BEGIN:VCALENDAR
VERSION:2.0
PRODID:-//wp-events-plugin.com//7.2.3.1//EN
TZID:Europe/Berlin
X-WR-TIMEZONE:Europe/Berlin
BEGIN:VEVENT
UID:220@queer-cities.org
DTSTART;TZID=Europe/Berlin:20250330T130000
DTEND;TZID=Europe/Berlin:20250330T160000
DTSTAMP:20250327T123203Z
URL:https://www.queer-cities.org/gay-lgbtiq-events/csd-bremen-motto-worksh
 op-2025/
SUMMARY:CSD Bremen Motto Workshop 2025: Let’s Create a Motto
DESCRIPTION:Am 23. August 2025 demonstrieren wieder Tausende beim CSD Br
 emen für Vielfalt\, Akzeptanz und gleiche Rechte. Doch zuerst braucht un
 ser CSD ein Motto\, das unsere Community vereint. Deshalb lädt das CSD 
 Bremen Orga-Team zum Motto-Workshop 2025 – und wir freuen uns\, diese
 n bei uns im Queer Cities Vereinsheim zu hosten!\nWarum beim CSD Bremen 
 Motto-Workshop mitmachen?\n\n 	Weil deine Meinung zählt! Das Motto soll 
 ALLE queeren Menschen repräsentieren – ob lesbisch\, schwul\, bi\, tran
 s*\, inter\, non-binär oder asexuell.\n 	Weil 23.000 Menschen 2024 gezeig
 t haben: Der CSD Bremen ist wichtig! Hilf mit\, 2025 noch mehr zu bewegen
 .\n 	Weil wir gemeinsam stärker sind – gegen Diskriminierung\, für Si
 chtbarkeit und politischen Wandel.\n\nJetzt anmelden &amp\; mitgestalten!\
 nBring deine Ideen ein und entwickle mit uns ein kraftvolles Motto für 
 den CSD Bremen 2025. Melde dich bis 23. März unter info@csd-bremen.or
 g an.\n\nGemeinsam machen wir den CSD Bremen 2025 unvergesslich!
ATTACH;FMTTYPE=image/jpeg:https://www.queer-cities.org/wp-content/uploads/
 2025/03/csd-bremen-lets-create-a-motto-veranstaltung-queer-cities-gay-guid
 e-queer-guide.png
CATEGORIES:Gay Guide Event,Gay Guide Event Bremen
LOCATION:Queer Cities e.V.\, Konsul-Smidt-Str. 11\, Bremen\, 28217\, Deutsc
 hland
X-APPLE-STRUCTURED-LOCATION;VALUE=URI;X-ADDRESS=Konsul-Smidt-Str. 11\, Brem
 en\, 28217\, Deutschland;X-APPLE-RADIUS=100;X-TITLE=Queer Cities e.V.:geo:
 0,0
END:VEVENT
BEGIN:VTIMEZONE
TZID:Europe/Berlin
X-LIC-LOCATION:Europe/Berlin
BEGIN:DAYLIGHT
DTSTART:20250330T030000
TZOFFSETFROM:+0100
TZOFFSETTO:+0200
TZNAME:CEST
END:DAYLIGHT
END:VTIMEZONE
END:VCALENDAR