BEGIN:VCALENDAR
VERSION:2.0
PRODID:-//wp-events-plugin.com//7.2.3.1//EN
TZID:Europe/Berlin
X-WR-TIMEZONE:Europe/Berlin
BEGIN:VEVENT
UID:72@queer-cities.org
DTSTART;TZID=Europe/Berlin;VALUE=DATE:20250621
DTEND;TZID=Europe/Berlin;VALUE=DATE:20250622
DTSTAMP:20250306T172045Z
URL:https://www.queer-cities.org/gay-lgbtiq-events/csd-esslingen-2025/
SUMMARY:CSD Esslingen 2025
DESCRIPTION:Weitere Informationen zum CSD Esslingen 2025 folgen in Kürze\n
 \n&nbsp\;\n\n&nbsp\;\n\nhttps://queeres.eu/\n\nhttps://www.instagram.com/c
 sd.esslingen/
ATTACH;FMTTYPE=image/jpeg:https://www.queer-cities.org/wp-content/uploads/
 2025/03/csd-esslingen-2025-queer-cities-gay-lgbtiq-queer-guide-csd-termine
 .png
CATEGORIES:CSD Termine 2025,Gay Guide Event
END:VEVENT
BEGIN:VTIMEZONE
TZID:Europe/Berlin
X-LIC-LOCATION:Europe/Berlin
BEGIN:DAYLIGHT
DTSTART:20250330T030000
TZOFFSETFROM:+0100
TZOFFSETTO:+0200
TZNAME:CEST
END:DAYLIGHT
END:VTIMEZONE
END:VCALENDAR